BEGIN:VCALENDAR
VERSION:2.0
PRODID:spatie/icalendar-generator
DESCRIPTION:Events from 紙の博物館 - 紙専門の総合博物館(東
 京都北区王子)
X-WR-CALDESC:Events from 紙の博物館 - 紙専門の総合博物館(東
 京都北区王子)
REFRESH-INTERVAL;VALUE=DURATION:PT1440M
X-PUBLISHED-TTL:PT1440M
BEGIN:VTIMEZONE
TZID:Asia/Tokyo
BEGIN:STANDARD
DTSTART:20241103T133000Z
TZOFFSETFROM:+0900
TZOFFSETTO:+0900
END:STANDARD
END:VTIMEZONE
BEGIN:VTIMEZONE
TZID:UTC
BEGIN:STANDARD
DTSTART:20250724T045911Z
TZOFFSETFROM:+0000
TZOFFSETTO:+0000
END:STANDARD
END:VTIMEZONE
BEGIN:VEVENT
UID:4648-672
DTSTAMP:20260420T045911Z
SUMMARY:自由研究「紙を知ろう」
LOCATION:
ORGANIZER;CN=紙の博物館:MAILTO:kojima@papermuseum.jp
DTSTART;TZID=Asia/Tokyo:20250731T133000
DTEND;TZID=Asia/Tokyo:20250731T150000
X-ALT-DESC;FMTTYPE=TEXT/HTML:
CATEGORIES:イベント
URL;VALUE=URI:https://papermuseum.jp/en/mc-events/%e8%87%aa%e7%94%b1%e7%a0%
 94%e7%a9%b6%e3%80%8c%e7%b4%99%e3%82%92%e7%9f%a5%e3%82%8d%e3%81%86%e3%80%8d
 /
METHOD:PUBLISH
END:VEVENT
END:VCALENDAR