BEGIN:VCALENDAR
VERSION:2.0
PRODID:spatie/icalendar-generator
DESCRIPTION:Events from 紙の博物館 - 紙専門の総合博物館(東
 京都北区王子)
X-WR-CALDESC:Events from 紙の博物館 - 紙専門の総合博物館(東
 京都北区王子)
REFRESH-INTERVAL;VALUE=DURATION:PT1440M
X-PUBLISHED-TTL:PT1440M
BEGIN:VTIMEZONE
TZID:Asia/Tokyo
BEGIN:STANDARD
DTSTART:20241117T133000Z
TZOFFSETFROM:+0900
TZOFFSETTO:+0900
END:STANDARD
END:VTIMEZONE
BEGIN:VTIMEZONE
TZID:UTC
BEGIN:STANDARD
DTSTART:20250723T135216Z
TZOFFSETFROM:+0000
TZOFFSETTO:+0000
END:STANDARD
END:VTIMEZONE
BEGIN:VEVENT
UID:4691-676
DTSTAMP:20260419T135216Z
SUMMARY:親子で牛乳パック工作
LOCATION:
ORGANIZER;CN=紙の博物館:MAILTO:kojima@papermuseum.jp
DTSTART;TZID=Asia/Tokyo:20250814T133000
DTEND;TZID=Asia/Tokyo:20250814T150000
X-ALT-DESC;FMTTYPE=TEXT/HTML:
CATEGORIES:イベント
URL;VALUE=URI:https://papermuseum.jp/en/mc-events/%e8%a6%aa%e5%ad%90%e3%81%
 a7%e7%89%9b%e4%b9%b3%e3%83%91%e3%83%83%e3%82%af%e5%b7%a5%e4%bd%9c/
METHOD:PUBLISH
END:VEVENT
END:VCALENDAR