BEGIN:VCALENDAR
VERSION:2.0
PRODID:spatie/icalendar-generator
DESCRIPTION:紙の博物館のイベント
X-WR-CALDESC:紙の博物館のイベント
REFRESH-INTERVAL;VALUE=DURATION:PT1440M
X-PUBLISHED-TTL:PT1440M
BEGIN:VTIMEZONE
TZID:Asia/Tokyo
BEGIN:STANDARD
DTSTART:20240306T000000Z
TZOFFSETFROM:+0900
TZOFFSETTO:+0900
END:STANDARD
END:VTIMEZONE
BEGIN:VTIMEZONE
TZID:UTC
BEGIN:STANDARD
DTSTART:20250726T155938Z
TZOFFSETFROM:+0000
TZOFFSETTO:+0000
END:STANDARD
END:VTIMEZONE
BEGIN:VEVENT
UID:4613-545
DTSTAMP:20260422T155938Z
SUMMARY:設備工事のため休館
LOCATION:
ORGANIZER;CN=紙の博物館:MAILTO:kojima@papermuseum.jp
DTSTART;TZID=Asia/Tokyo;VALUE=DATE:20241201
DTEND;TZID=Asia/Tokyo;VALUE=DATE:20241228
X-ALT-DESC;FMTTYPE=TEXT/HTML:
CATEGORIES:holiday
URL;VALUE=URI:https://papermuseum.jp/ja/mc-events/%e8%a8%ad%e5%82%99%e5%b7%
 a5%e4%ba%8b%e3%81%ae%e3%81%9f%e3%82%81%e4%bc%91%e9%a4%a8/
METHOD:PUBLISH
END:VEVENT
END:VCALENDAR